View In:
ArcGIS JavaScript
ArcGIS Online Map Viewer
ArcGIS Earth
ArcGIS Pro
Service Description:
Map Name: deverlopment
Legend
All Layers and Tables
Layers:
Description:
Service Item Id: 2a5eb3fb68b04a91831bae3b179e6342
Copyright Text:
Spatial Reference:
102747
(2284)
VCSWkid(105703)
LatestVCSWkid(6360)
Single Fused Map Cache: true
Tile Info:
- Height: 256
- Width: 256
- DPI: 96
-
Levels of Detail: 19
-
Level ID: 0
[ Start Tile, End Tile ]
- Resolution: 957993.4186861308
- Scale: 1.1036106255476737E9
-
Level ID: 1
[ Start Tile, End Tile ]
- Resolution: 478996.7093430654
- Scale: 5.518053127738369E8
-
Level ID: 2
[ Start Tile, End Tile ]
- Resolution: 239498.3546715327
- Scale: 2.759026563869184E8
-
Level ID: 3
[ Start Tile, End Tile ]
- Resolution: 119749.17733576635
- Scale: 1.379513281934592E8
-
Level ID: 4
[ Start Tile, End Tile ]
- Resolution: 59874.588667883174
- Scale: 6.89756640967296E7
-
Level ID: 5
[ Start Tile, End Tile ]
- Resolution: 29937.294333941587
- Scale: 3.44878320483648E7
-
Level ID: 6
[ Start Tile, End Tile ]
- Resolution: 14968.647166970793
- Scale: 1.72439160241824E7
-
Level ID: 8
[ Start Tile, End Tile ]
- Resolution: 3742.1617917426984
- Scale: 4310979.0060456
-
Level ID: 9
[ Start Tile, End Tile ]
- Resolution: 1871.0808958713492
- Scale: 2155489.5030228
-
Level ID: 10
[ Start Tile, End Tile ]
- Resolution: 935.5404479356746
- Scale: 1077744.7515114
-
Level ID: 12
[ Start Tile, End Tile ]
- Resolution: 233.88511198391865
- Scale: 269436.18787785
-
Level ID: 13
[ Start Tile, End Tile ]
- Resolution: 116.94255599195932
- Scale: 134718.093938925
-
Level ID: 14
[ Start Tile, End Tile ]
- Resolution: 58.47127799597966
- Scale: 67359.0469694625
-
Level ID: 15
[ Start Tile, End Tile ]
- Resolution: 29.23563899798983
- Scale: 33679.52348473125
-
Level ID: 16
[ Start Tile, End Tile ]
- Resolution: 14.617819498994916
- Scale: 16839.761742365627
-
Level ID: 17
[ Start Tile, End Tile ]
- Resolution: 7.308909749497458
- Scale: 8419.880871182813
-
Level ID: 18
[ Start Tile, End Tile ]
- Resolution: 3.654454874748729
- Scale: 4209.940435591407
- Format: PNG
- Compression Quality: 0.0
- Origin: X: -1.1114024092515808E8
Y: 1.1261334390327471E8
- Spatial Reference: 102747
(2284)
VCSWkid(105703)
LatestVCSWkid(6360)
Storage Info:
- Storage Format: esriMapCacheStorageModeCompactV2
- Packet Size: 128
Initial Extent:
XMin: 1.2000883606029974E7
YMin: 3624522.973629242
XMax: 1.2003828672385277E7
YMax: 3627048.3680289127
Spatial Reference: 102747
(2284)
VCSWkid(105703)
LatestVCSWkid(6360)
Full Extent:
XMin: 1.1994114188412383E7
YMin: 3618748.464326649
XMax: 1.2017123273955809E7
YMax: 3641230.4196907296
Spatial Reference: 102747
(2284)
VCSWkid(105703)
LatestVCSWkid(6360)
Units: esriFeet
Supported Image Format Types: PNG32,PNG24,PNG,JPG,DIB,TIFF,EMF,PS,PDF,GIF,SVG,SVGZ,BMP
Document Info:
Title: C:\Users\hawilliams\Documents\ArcGIS\Projects\SQL Connect PGIS TGIS DGIS\SQL Connect PGIS TGIS DGIS.aprx
Author:
Comments:
Subject:
Category:
Keywords:
AntialiasingMode: None
TextAntialiasingMode: Force
Supports Dynamic Layers: false
MaxRecordCount: 1000
MaxImageHeight: 4096
MaxImageWidth: 4096
Supported Query Formats: JSON, geoJSON, PBF
Supports Query Data Elements: true
Min Scale: 67359.0469694625
Max Scale: 4209.940435591407
Min LOD: 14
Max LOD: 18
Supports Datum Transformation: true
Child Resources:
Info
Supported Operations:
QueryLegends
Return Updates