{
 "currentVersion": 11.1,
 "cimVersion": "3.1.0",
 "serviceDescription": "",
 "mapName": "deverlopment",
 "description": "",
 "copyrightText": "",
 "supportsDynamicLayers": false,
 "layers": [
  {
   "id": 0,
   "name": "Highest Provider",
   "parentLayerId": -1,
   "defaultVisibility": false,
   "subLayerIds": null,
   "minScale": 0,
   "maxScale": 0,
   "type": "Feature Layer",
   "geometryType": "esriGeometryPolygon",
   "supportsDynamicLegends": true
  }
 ],
 "tables": [],
 "spatialReference": {
  "wkid": 102747,
  "latestWkid": 2284,
  "vcsWkid": 105703,
  "latestVcsWkid": 6360,
  "xyTolerance": 0.003280833333333333,
  "zTolerance": 0.001,
  "mTolerance": 0.001,
  "falseX": -111140600,
  "falseY": -91532100,
  "xyUnits": 3048.0060960121928,
  "falseZ": -100000,
  "zUnits": 3048.006096012192,
  "falseM": -100000,
  "mUnits": 10000
 },
 "singleFusedMapCache": true,
 "tileInfo": {
  "rows": 256,
  "cols": 256,
  "dpi": 96,
  "format": "PNG",
  "compressionQuality": 0,
  "origin": {
   "x": -1.1114024092515808E8,
   "y": 1.1261334390327471E8
  },
  "spatialReference": {
   "wkid": 102747,
   "latestWkid": 2284,
   "vcsWkid": 105703,
   "latestVcsWkid": 6360,
   "xyTolerance": 0.003280833333333333,
   "zTolerance": 0.001,
   "mTolerance": 0.001,
   "falseX": -111140600,
   "falseY": -91532100,
   "xyUnits": 3048.0060960121928,
   "falseZ": -100000,
   "zUnits": 3048.006096012192,
   "falseM": -100000,
   "mUnits": 10000
  },
  "lods": [
   {
    "level": 0,
    "resolution": 957993.4186861308,
    "scale": 1.1036106255476737E9
   },
   {
    "level": 1,
    "resolution": 478996.7093430654,
    "scale": 5.518053127738369E8
   },
   {
    "level": 2,
    "resolution": 239498.3546715327,
    "scale": 2.759026563869184E8
   },
   {
    "level": 3,
    "resolution": 119749.17733576635,
    "scale": 1.379513281934592E8
   },
   {
    "level": 4,
    "resolution": 59874.588667883174,
    "scale": 6.89756640967296E7
   },
   {
    "level": 5,
    "resolution": 29937.294333941587,
    "scale": 3.44878320483648E7
   },
   {
    "level": 6,
    "resolution": 14968.647166970793,
    "scale": 1.72439160241824E7
   },
   {
    "level": 7,
    "resolution": 7484.323583485397,
    "scale": 8621958.0120912
   },
   {
    "level": 8,
    "resolution": 3742.1617917426984,
    "scale": 4310979.0060456
   },
   {
    "level": 9,
    "resolution": 1871.0808958713492,
    "scale": 2155489.5030228
   },
   {
    "level": 10,
    "resolution": 935.5404479356746,
    "scale": 1077744.7515114
   },
   {
    "level": 11,
    "resolution": 467.7702239678373,
    "scale": 538872.3757557
   },
   {
    "level": 12,
    "resolution": 233.88511198391865,
    "scale": 269436.18787785
   },
   {
    "level": 13,
    "resolution": 116.94255599195932,
    "scale": 134718.093938925
   },
   {
    "level": 14,
    "resolution": 58.47127799597966,
    "scale": 67359.0469694625
   },
   {
    "level": 15,
    "resolution": 29.23563899798983,
    "scale": 33679.52348473125
   },
   {
    "level": 16,
    "resolution": 14.617819498994916,
    "scale": 16839.761742365627
   },
   {
    "level": 17,
    "resolution": 7.308909749497458,
    "scale": 8419.880871182813
   },
   {
    "level": 18,
    "resolution": 3.654454874748729,
    "scale": 4209.940435591407
   }
  ]
 },
 "storageInfo": {
  "storageFormat": "esriMapCacheStorageModeCompactV2",
  "packetSize": 128
 },
 "initialExtent": {
  "xmin": 1.2000883606029974E7,
  "ymin": 3624522.973629242,
  "xmax": 1.2003828672385277E7,
  "ymax": 3627048.3680289127,
  "spatialReference": {
   "wkid": 102747,
   "latestWkid": 2284,
   "vcsWkid": 105703,
   "latestVcsWkid": 6360,
   "xyTolerance": 0.003280833333333333,
   "zTolerance": 0.001,
   "mTolerance": 0.001,
   "falseX": -111140600,
   "falseY": -91532100,
   "xyUnits": 3048.0060960121928,
   "falseZ": -100000,
   "zUnits": 3048.006096012192,
   "falseM": -100000,
   "mUnits": 10000
  }
 },
 "fullExtent": {
  "xmin": 1.1994114188412383E7,
  "ymin": 3618748.464326649,
  "xmax": 1.2017123273955809E7,
  "ymax": 3641230.4196907296,
  "spatialReference": {
   "wkid": 102747,
   "latestWkid": 2284,
   "vcsWkid": 105703,
   "latestVcsWkid": 6360,
   "xyTolerance": 0.003280833333333333,
   "zTolerance": 0.001,
   "mTolerance": 0.001,
   "falseX": -111140600,
   "falseY": -91532100,
   "xyUnits": 3048.0060960121928,
   "falseZ": -100000,
   "zUnits": 3048.006096012192,
   "falseM": -100000,
   "mUnits": 10000
  }
 },
 "datesInUnknownTimezone": false,
 "units": "esriFeet",
 "supportedImageFormatTypes": "PNG32,PNG24,PNG,JPG,DIB,TIFF,EMF,PS,PDF,GIF,SVG,SVGZ,BMP",
 "documentInfo": {
  "Title": "C:\\Users\\hawilliams\\Documents\\ArcGIS\\Projects\\SQL Connect PGIS TGIS DGIS\\SQL Connect PGIS TGIS DGIS.aprx",
  "Author": "",
  "Comments": "",
  "Subject": "",
  "Category": "",
  "Version": "3.1.0",
  "AntialiasingMode": "None",
  "TextAntialiasingMode": "Force",
  "Keywords": ""
 },
 "supportedQueryFormats": "JSON, geoJSON, PBF",
 "referenceScale": 0.0,
 "datumTransformations": [
  {
   "geoTransforms": [
    {
     "wkid": 108190,
     "latestWkid": 108190,
     "transformForward": true,
     "name": "WGS_1984_(ITRF00)_To_NAD_1983"
    }
   ]
  },
  {
   "geoTransforms": [
    {
     "wkid": 108190,
     "latestWkid": 108190,
     "transformForward": false,
     "name": "WGS_1984_(ITRF00)_To_NAD_1983"
    }
   ]
  },
  {
   "geoTransforms": [
    {
     "wkid": 108190,
     "latestWkid": 108190,
     "transformForward": true,
     "name": "WGS_1984_(ITRF00)_To_NAD_1983"
    }
   ]
  },
  {
   "geoTransforms": [
    {
     "wkid": 108190,
     "latestWkid": 108190,
     "transformForward": false,
     "name": "WGS_1984_(ITRF00)_To_NAD_1983"
    }
   ]
  },
  {
   "geoTransforms": [
    {
     "wkid": 108363,
     "latestWkid": 108363,
     "transformForward": false,
     "name": "WGS_1984_(ITRF08)_To_NAD_1983_2011"
    },
    {
     "wkid": 108190,
     "latestWkid": 108190,
     "transformForward": true,
     "name": "WGS_1984_(ITRF00)_To_NAD_1983"
    }
   ]
  },
  {
   "geoTransforms": [
    {
     "wkid": 108190,
     "latestWkid": 108190,
     "transformForward": false,
     "name": "WGS_1984_(ITRF00)_To_NAD_1983"
    },
    {
     "wkid": 108363,
     "latestWkid": 108363,
     "transformForward": true,
     "name": "WGS_1984_(ITRF08)_To_NAD_1983_2011"
    }
   ]
  }
 ],
 "supportsDatumTransformation": true,
 "floorAwareMapProperties": {
  "defaultFloorFilterSettings": {
   "isEnabled": false
  }
 },
 "heightModelInfo": {
  "heightModel": "gravity_related_height",
  "vertCRS": "NAVD88_height_(ftUS)",
  "heightUnit": "us-foot"
 },
 "supportsVCSProjection": true,
 "archivingInfo": {
  "supportsHistoricMoment": false
 },
 "supportsClipping": true,
 "supportsSpatialFilter": true,
 "supportsTimeRelation": true,
 "supportsQueryDataElements": true,
 "mapUnits": {
  "uwkid": 9003
 },
 "maxRecordCount": 1000,
 "maxImageHeight": 4096,
 "maxImageWidth": 4096,
 "capabilities": "TilesOnly,Tilemap",
 "minScale": 67359.0469694625,
 "maxScale": 4209.940435591407,
 "exportTilesAllowed": false,
 "maxExportTilesCount": 100000,
 "minLOD": 14,
 "maxLOD": 18,
 "supportedExtensions": "",
 "serviceItemId": "2a5eb3fb68b04a91831bae3b179e6342"
}
