View In:
ArcGIS JavaScript
ArcGIS Online Map Viewer
ArcGIS Earth
ArcGIS Pro
Service Description:
Map Name: Cell Publish
Legend
All Layers and Tables
Dynamic Legend
Dynamic All Layers
Layers:
Description:
Service Item Id: ca4d3d1f0f0e4b83b9e0e3e26cd9c414
Copyright Text:
Spatial Reference:
102100
(3857)
Single Fused Map Cache: true
Tile Info:
- Height: 512
- Width: 512
- DPI: 96
-
Levels of Detail: 23
-
Level ID: 1
[ Start Tile, End Tile ]
- Resolution: 39135.75848199995
- Scale: 1.4791438189788842E8
-
Level ID: 2
[ Start Tile, End Tile ]
- Resolution: 19567.87924100005
- Scale: 7.395719094894451E7
-
Level ID: 3
[ Start Tile, End Tile ]
- Resolution: 9783.93962049995
- Scale: 3.697859547447197E7
-
Level ID: 4
[ Start Tile, End Tile ]
- Resolution: 4891.96981024998
- Scale: 1.8489297737236E7
-
Level ID: 7
[ Start Tile, End Tile ]
- Resolution: 611.496226281245
- Scale: 2311162.2171544908
-
Level ID: 8
[ Start Tile, End Tile ]
- Resolution: 305.74811314069
- Scale: 1155581.1085775006
-
Level ID: 9
[ Start Tile, End Tile ]
- Resolution: 152.874056570279
- Scale: 577790.5542885009
-
Level ID: 10
[ Start Tile, End Tile ]
- Resolution: 76.4370282852055
- Scale: 288895.2771444999
-
Level ID: 11
[ Start Tile, End Tile ]
- Resolution: 38.2185141425366
- Scale: 144447.6385719999
-
Level ID: 12
[ Start Tile, End Tile ]
- Resolution: 19.1092570712683
- Scale: 72223.81928599995
-
Level ID: 13
[ Start Tile, End Tile ]
- Resolution: 9.55462853563415
- Scale: 36111.90964299998
-
Level ID: 14
[ Start Tile, End Tile ]
- Resolution: 4.777314267817075
- Scale: 18055.95482149999
-
Level ID: 16
[ Start Tile, End Tile ]
- Resolution: 1.19432856698734
- Scale: 4513.988705499991
-
Level ID: 17
[ Start Tile, End Tile ]
- Resolution: 0.597164283427525
- Scale: 2256.9943524999994
-
Level ID: 18
[ Start Tile, End Tile ]
- Resolution: 0.2985821417799085
- Scale: 1128.4971764999998
-
Level ID: 19
[ Start Tile, End Tile ]
- Resolution: 0.1492910708238085
- Scale: 564.2485880000006
- Format: Mixed
- Compression Quality: 75.0
- Origin: X: -2.0037508342787E7
Y: 2.0037508342787E7
- Spatial Reference: 102100
(3857)
Storage Info:
- Storage Format: esriMapCacheStorageModeCompactV2
- Packet Size: 128
Initial Extent:
XMin: -8540340.35778112
YMin: 4475908.35687838
XMax: -8535604.234866604
YMax: 4478786.0011808695
Spatial Reference: 102100
(3857)
Full Extent:
XMin: -8543228.917633202
YMin: 4463825.988070479
XMax: -8506426.015995875
YMax: 4483616.457532536
Spatial Reference: 102100
(3857)
Units: esriMeters
Supported Image Format Types: PNG32,PNG24,PNG,JPG,DIB,TIFF,EMF,PS,PDF,GIF,SVG,SVGZ,BMP
Document Info:
Title: Map
Author:
Comments:
Subject:
Category:
Keywords:
AntialiasingMode: Fast
TextAntialiasingMode: Force
Supports Dynamic Layers: true
MaxRecordCount: 2000
MaxImageHeight: 4096
MaxImageWidth: 4096
Supported Query Formats: JSON, geoJSON, PBF
Supports Query Data Elements: true
Min Scale: 577790.5542885009
Max Scale: 4513.988705499991
Min LOD: 9
Max LOD: 16
Supports Datum Transformation: true
Child Resources:
Info
Dynamic Layer
Supported Operations:
Export Map
Identify
QueryLegends
QueryDomains
Find
Return Updates